BEGIN:VCALENDAR
VERSION:2.0
CALSCALE:GREGORIAN
PRODID:-//Diputació de Barcelona//DibaCMS//EN
BEGIN:VEVENT
UID:2739
DTSTAMP:20260422T215229
DTSTART:20180627T000000
DTEND:20180627T000000
SUMMARY:TALLER &quot;COM ENS TREBALLEM LA NOSTRA LGTBIFÒBIA&quot;
LOCATION:
METHOD:PUBLISH
X-WR-CALNAME:info.pont@elpont.cat
X-WR-TIMEZONE:Europe/Madrid
DESCRIPTION:A través de conceptes teòrics i del debat es replantejarà l’ideari social sobre el sexe i el gènere i s’oferiran recursos i eines per combatre la LGTBIfòbia
 
A càrrec de l'Associació FILIGRANA per la diversitat afectiva, sexual i de gènere.
URI:https://www.elpont.cat/actualitat/agenda/taller-andquotcom-ens-treballem-la-nostra-lgtbifobiaandquot.html
CLASS:PUBLIC
END:VEVENT
END:VCALENDAR
