BEGIN:VCALENDAR
VERSION:2.0
CALSCALE:GREGORIAN
PRODID:-//Diputació de Barcelona//DibaCMS//EN
BEGIN:VEVENT
UID:2741
DTSTAMP:20260423T040621
DTSTART:20180709T000000
DTEND:20180713T000000
SUMMARY:EXPOSICIÓ &quot;PERSONES QUE ES MOUEN&quot;
LOCATION:
METHOD:PUBLISH
X-WR-CALNAME:info.pont@elpont.cat
X-WR-TIMEZONE:Europe/Madrid
DESCRIPTION:
URI:https://www.elpont.cat/actualitat/agenda/exposicio-andquotpersones-que-es-mouenandquot.html
CLASS:PUBLIC
END:VEVENT
END:VCALENDAR
