BEGIN:VCALENDAR
VERSION:2.0
CALSCALE:GREGORIAN
PRODID:-//Diputació de Barcelona//DibaCMS//EN
BEGIN:VEVENT
UID:2742
DTSTAMP:20260422T230113
DTSTART:20180713T000000
DTEND:20180713T000000
SUMMARY:FESTA MAJOR 2018 - IV SOPAR A LA FRESCA - BIKINADA
LOCATION:
METHOD:PUBLISH
X-WR-CALNAME:info.pont@elpont.cat
X-WR-TIMEZONE:Europe/Madrid
DESCRIPTION:
URI:https://www.elpont.cat/actualitat/agenda/festa-major-2018-iv-sopar-a-la-fresca-bikinada.html
CLASS:PUBLIC
END:VEVENT
END:VCALENDAR
