BEGIN:VCALENDAR
VERSION:2.0
CALSCALE:GREGORIAN
PRODID:-//Diputació de Barcelona//DibaCMS//EN
BEGIN:VEVENT
UID:2743
DTSTAMP:20260423T053501
DTSTART:20180713T000000
DTEND:20180713T000000
SUMMARY:FESTA MAJOR 2018 - DISCO MÒBIL INFANTIL
LOCATION:
METHOD:PUBLISH
X-WR-CALNAME:info.pont@elpont.cat
X-WR-TIMEZONE:Europe/Madrid
DESCRIPTION:Balla-la amb Jordi Callau
URI:https://www.elpont.cat/actualitat/agenda/festa-major-2018-disco-mobil-infantil.html
CLASS:PUBLIC
END:VEVENT
END:VCALENDAR
