BEGIN:VCALENDAR
VERSION:2.0
CALSCALE:GREGORIAN
PRODID:-//Diputació de Barcelona//DibaCMS//EN
BEGIN:VEVENT
UID:2745
DTSTAMP:20260423T040749
DTSTART:20180714T000000
DTEND:20180714T000000
SUMMARY:FESTA MAJOR 2018 - TRIANGULAR DE FUTBOL DE VETERANS
LOCATION:
METHOD:PUBLISH
X-WR-CALNAME:info.pont@elpont.cat
X-WR-TIMEZONE:Europe/Madrid
DESCRIPTION:A.V. Vilomara - A.V. St. Vicenç - A.V. Fruitosenc
URI:https://www.elpont.cat/actualitat/agenda/festa-major-2018-triangular-de-futbol-de-veterans.html
CLASS:PUBLIC
END:VEVENT
END:VCALENDAR
