BEGIN:VCALENDAR
VERSION:2.0
CALSCALE:GREGORIAN
PRODID:-//Diputació de Barcelona//DibaCMS//EN
BEGIN:VEVENT
UID:2749
DTSTAMP:20260422T205409
DTSTART:20180715T000000
DTEND:20180715T000000
SUMMARY:FESTA MAJOR 2018 - IV GIMCANA INFANTIL “TOTS A L’AIGUA!!!” AMB FESTA DE L'ESCUMA
LOCATION:
METHOD:PUBLISH
X-WR-CALNAME:info.pont@elpont.cat
X-WR-TIMEZONE:Europe/Madrid
DESCRIPTION:
URI:https://www.elpont.cat/actualitat/agenda/festa-major-2018-iv-gimcana-infantil-tots-a-laigua-amb-festa-de-lescuma.html
CLASS:PUBLIC
END:VEVENT
END:VCALENDAR
