BEGIN:VCALENDAR
VERSION:2.0
CALSCALE:GREGORIAN
PRODID:-//Diputació de Barcelona//DibaCMS//EN
BEGIN:VEVENT
UID:2750
DTSTAMP:20260422T194209
DTSTART:20180715T000000
DTEND:20180715T000000
SUMMARY:FESTA MAJOR 2018 - SANTA MISSA cantada pel Coro Rociero Candela Viva
LOCATION:
METHOD:PUBLISH
X-WR-CALNAME:info.pont@elpont.cat
X-WR-TIMEZONE:Europe/Madrid
DESCRIPTION:
URI:https://www.elpont.cat/actualitat/agenda/festa-major-2018-santa-missa-cantada-pel-coro-rociero-candela-viva.html
CLASS:PUBLIC
END:VEVENT
END:VCALENDAR
