BEGIN:VCALENDAR
VERSION:2.0
CALSCALE:GREGORIAN
PRODID:-//Diputació de Barcelona//DibaCMS//EN
BEGIN:VEVENT
UID:2752
DTSTAMP:20260422T164002
DTSTART:20180715T000000
DTEND:20180715T000000
SUMMARY:FESTA MAJOR 2018 - CONCURS DE PESCA DE FESTA MAJOR
LOCATION:
METHOD:PUBLISH
X-WR-CALNAME:info.pont@elpont.cat
X-WR-TIMEZONE:Europe/Madrid
DESCRIPTION:
URI:https://www.elpont.cat/actualitat/agenda/festa-major-2018-concurs-de-pesca-de-festa-major.html
CLASS:PUBLIC
END:VEVENT
END:VCALENDAR
