BEGIN:VCALENDAR
VERSION:2.0
CALSCALE:GREGORIAN
PRODID:-//Diputació de Barcelona//DibaCMS//EN
BEGIN:VEVENT
UID:2753
DTSTAMP:20260422T214157
DTSTART:20180715T000000
DTEND:20180715T000000
SUMMARY:FESTA MAJOR 2018 - XXV CONCURS DE DIBUIX
LOCATION:
METHOD:PUBLISH
X-WR-CALNAME:info.pont@elpont.cat
X-WR-TIMEZONE:Europe/Madrid
DESCRIPTION:
URI:https://www.elpont.cat/actualitat/agenda/festa-major-2018-xxv-concurs-de-dibuix.html
CLASS:PUBLIC
END:VEVENT
END:VCALENDAR
