BEGIN:VCALENDAR
VERSION:2.0
CALSCALE:GREGORIAN
PRODID:-//Diputació de Barcelona//DibaCMS//EN
BEGIN:VEVENT
UID:2754
DTSTAMP:20260422T204515
DTSTART:20180719T000000
DTEND:20180719T000000
SUMMARY:FESTA MAJOR 2018 - TALLER DE COCKTAILS “COCKTAILS SENSE COCTELERA”
LOCATION:
METHOD:PUBLISH
X-WR-CALNAME:info.pont@elpont.cat
X-WR-TIMEZONE:Europe/Madrid
DESCRIPTION:A càrrec del barman Jordi Millan
URI:https://www.elpont.cat/actualitat/agenda/festa-major-2018-taller-de-cocktails-cocktails-sense-coctelera.html
CLASS:PUBLIC
END:VEVENT
END:VCALENDAR
