BEGIN:VCALENDAR
VERSION:2.0
CALSCALE:GREGORIAN
PRODID:-//Diputació de Barcelona//DibaCMS//EN
BEGIN:VEVENT
UID:2756
DTSTAMP:20260422T175946
DTSTART:20180720T000000
DTEND:20180720T000000
SUMMARY:FESTA MAJOR 2018 - GRUP DE VERSIONS amb els Tremendos i després Dj Tremendo
LOCATION:
METHOD:PUBLISH
X-WR-CALNAME:info.pont@elpont.cat
X-WR-TIMEZONE:Europe/Madrid
DESCRIPTION:
URI:https://www.elpont.cat/actualitat/agenda/festa-major-2018-grup-de-versions-amb-els-tremendos-i-despres-dj-tremendo.html
CLASS:PUBLIC
END:VEVENT
END:VCALENDAR
