BEGIN:VCALENDAR
VERSION:2.0
CALSCALE:GREGORIAN
PRODID:-//Diputació de Barcelona//DibaCMS//EN
BEGIN:VEVENT
UID:2757
DTSTAMP:20260423T000207
DTSTART:20180720T000000
DTEND:20180720T000000
SUMMARY:FESTA MAJOR 2018 - ESPECTACLE DE FOC “Els portadors de la llum”
LOCATION:
METHOD:PUBLISH
X-WR-CALNAME:info.pont@elpont.cat
X-WR-TIMEZONE:Europe/Madrid
DESCRIPTION:A càrrec d’Actua Produccions
URI:https://www.elpont.cat/actualitat/agenda/festa-major-2018-espectacle-de-foc-els-portadors-de-la-llum.html
CLASS:PUBLIC
END:VEVENT
END:VCALENDAR
