BEGIN:VCALENDAR
VERSION:2.0
CALSCALE:GREGORIAN
PRODID:-//Diputació de Barcelona//DibaCMS//EN
BEGIN:VEVENT
UID:2758
DTSTAMP:20260422T231910
DTSTART:20180720T000000
DTEND:20180720T000000
SUMMARY:FESTA MAJOR 2018 - SALUTACIÓ – INICI DE LA FESTA MAJOR
LOCATION:
METHOD:PUBLISH
X-WR-CALNAME:info.pont@elpont.cat
X-WR-TIMEZONE:Europe/Madrid
DESCRIPTION:A càrrec de l’ Hereu, la Pubilla i la Dama 2017
URI:https://www.elpont.cat/actualitat/agenda/festa-major-2018-salutacio--inici-de-la-festa-major.html
CLASS:PUBLIC
END:VEVENT
END:VCALENDAR
