BEGIN:VCALENDAR
VERSION:2.0
CALSCALE:GREGORIAN
PRODID:-//Diputació de Barcelona//DibaCMS//EN
BEGIN:VEVENT
UID:2759
DTSTAMP:20260422T180021
DTSTART:20180720T000000
DTEND:20180720T000000
SUMMARY:FESTA MAJOR 2018 - BERENAR - BALL DE JUBILATS
LOCATION:
METHOD:PUBLISH
X-WR-CALNAME:info.pont@elpont.cat
X-WR-TIMEZONE:Europe/Madrid
DESCRIPTION:Amb el duet DOBLE PERFIL
 
Elecció de Pubilla i Hereu Jubilats
URI:https://www.elpont.cat/actualitat/agenda/festa-major-2018-berenar-ball-de-jubilats.html
CLASS:PUBLIC
END:VEVENT
END:VCALENDAR
