BEGIN:VCALENDAR
VERSION:2.0
CALSCALE:GREGORIAN
PRODID:-//Diputació de Barcelona//DibaCMS//EN
BEGIN:VEVENT
UID:2760
DTSTAMP:20260422T225951
DTSTART:20180721T000000
DTEND:20180721T000000
SUMMARY:FESTA MAJOR 2018 - KEEP CALM AND DANCE TECHNO “In the picnic”
LOCATION:
METHOD:PUBLISH
X-WR-CALNAME:info.pont@elpont.cat
X-WR-TIMEZONE:Europe/Madrid
DESCRIPTION:
URI:https://www.elpont.cat/actualitat/agenda/festa-major-2018-keep-calm-and-dance-techno-in-the-picnic.html
CLASS:PUBLIC
END:VEVENT
END:VCALENDAR
