BEGIN:VCALENDAR
VERSION:2.0
CALSCALE:GREGORIAN
PRODID:-//Diputació de Barcelona//DibaCMS//EN
BEGIN:VEVENT
UID:2761
DTSTAMP:20260422T204331
DTSTART:20180721T000000
DTEND:20180721T000000
SUMMARY:FESTA MAJOR 2018 - BALL DE FESTA MAJOR
LOCATION:
METHOD:PUBLISH
X-WR-CALNAME:info.pont@elpont.cat
X-WR-TIMEZONE:Europe/Madrid
DESCRIPTION:A càrrec de BANDA SONORA
URI:https://www.elpont.cat/actualitat/agenda/festa-major-2018-ball-de-festa-major.html
CLASS:PUBLIC
END:VEVENT
END:VCALENDAR
