BEGIN:VCALENDAR
VERSION:2.0
CALSCALE:GREGORIAN
PRODID:-//Diputació de Barcelona//DibaCMS//EN
BEGIN:VEVENT
UID:2762
DTSTAMP:20260422T192752
DTSTART:20180721T000000
DTEND:20180721T000000
SUMMARY:FESTA MAJOR 2018 - AUDICIÓ DE SARDANES
LOCATION:
METHOD:PUBLISH
X-WR-CALNAME:info.pont@elpont.cat
X-WR-TIMEZONE:Europe/Madrid
DESCRIPTION:A càrrec de la COBLA BELL PUIG
URI:https://www.elpont.cat/actualitat/agenda/festa-major-2018-audicio-de-sardanes.html
CLASS:PUBLIC
END:VEVENT
END:VCALENDAR
