BEGIN:VCALENDAR
VERSION:2.0
CALSCALE:GREGORIAN
PRODID:-//Diputació de Barcelona//DibaCMS//EN
BEGIN:VEVENT
UID:2763
DTSTAMP:20260423T053601
DTSTART:20180721T000000
DTEND:20180721T000000
SUMMARY:FESTA MAJOR 2018 - FINAL TORNEIG DE PÀDEL “Trofeu Ajuntament del Pont de Vilomara i Rocafort”
LOCATION:
METHOD:PUBLISH
X-WR-CALNAME:info.pont@elpont.cat
X-WR-TIMEZONE:Europe/Madrid
DESCRIPTION:
URI:https://www.elpont.cat/actualitat/agenda/festa-major-2018-final-torneig-de-padel-trofeu-ajuntament-del-pont-de-vilomara-i-rocafort.html
CLASS:PUBLIC
END:VEVENT
END:VCALENDAR
