BEGIN:VCALENDAR
VERSION:2.0
CALSCALE:GREGORIAN
PRODID:-//Diputació de Barcelona//DibaCMS//EN
BEGIN:VEVENT
UID:2767
DTSTAMP:20260422T215214
DTSTART:20180721T000000
DTEND:20180721T000000
SUMMARY:FESTA MAJOR 2018 - TOBOGAN URBÀ SLIDE
LOCATION:
METHOD:PUBLISH
X-WR-CALNAME:info.pont@elpont.cat
X-WR-TIMEZONE:Europe/Madrid
DESCRIPTION:A càrrec de PLAYERS SPORTS
URI:https://www.elpont.cat/actualitat/agenda/festa-major-2018-tobogan-urba-slide.html
CLASS:PUBLIC
END:VEVENT
END:VCALENDAR
