BEGIN:VCALENDAR
VERSION:2.0
CALSCALE:GREGORIAN
PRODID:-//Diputació de Barcelona//DibaCMS//EN
BEGIN:VEVENT
UID:2770
DTSTAMP:20260422T180603
DTSTART:20180722T000000
DTEND:20180722T000000
SUMMARY:FESTA MAJOR 2018 - OFICI SOLEMNE DE FESTA MAJOR Cantat pel Cor Parroquial Santa Maria Magdalena
LOCATION:
METHOD:PUBLISH
X-WR-CALNAME:info.pont@elpont.cat
X-WR-TIMEZONE:Europe/Madrid
DESCRIPTION:
URI:https://www.elpont.cat/actualitat/agenda/festa-major-2018-ofici-solemne-de-festa-major-cantat-pel-cor-parroquial-santa-maria-magdalena.html
CLASS:PUBLIC
END:VEVENT
END:VCALENDAR
