BEGIN:VCALENDAR
VERSION:2.0
CALSCALE:GREGORIAN
PRODID:-//Diputació de Barcelona//DibaCMS//EN
BEGIN:VEVENT
UID:2771
DTSTAMP:20260422T194557
DTSTART:20180722T000000
DTEND:20180722T000000
SUMMARY:FESTA MAJOR 2018 - CERCAVILA amb els Gegants i Grallers del Grup d’Infància i Joventut
LOCATION:
METHOD:PUBLISH
X-WR-CALNAME:info.pont@elpont.cat
X-WR-TIMEZONE:Europe/Madrid
DESCRIPTION:
URI:https://www.elpont.cat/actualitat/agenda/festa-major-2018-cercavila-amb-els-gegants-i-grallers-del-grup-dinfancia-i-joventut.html
CLASS:PUBLIC
END:VEVENT
END:VCALENDAR
