BEGIN:VCALENDAR
VERSION:2.0
CALSCALE:GREGORIAN
PRODID:-//Diputació de Barcelona//DibaCMS//EN
BEGIN:VEVENT
UID:2772
DTSTAMP:20260423T053815
DTSTART:20180722T000000
DTEND:20180722T000000
SUMMARY:FESTA MAJOR 2018 - EXPOSICIÓ I VENDA D’ARTESANIA
LOCATION:
METHOD:PUBLISH
X-WR-CALNAME:info.pont@elpont.cat
X-WR-TIMEZONE:Europe/Madrid
DESCRIPTION:Les Artesanes del Pont
URI:https://www.elpont.cat/actualitat/agenda/festa-major-2018-exposicio-i-venda-dartesania.html
CLASS:PUBLIC
END:VEVENT
END:VCALENDAR
