BEGIN:VCALENDAR
VERSION:2.0
CALSCALE:GREGORIAN
PRODID:-//Diputació de Barcelona//DibaCMS//EN
BEGIN:VEVENT
UID:2776
DTSTAMP:20260422T193902
DTSTART:20180722T000000
DTEND:20180722T000000
SUMMARY:FESTA MAJOR 2018 - VINE A FER UN MOJITO A LA FRESCA
LOCATION:
METHOD:PUBLISH
X-WR-CALNAME:info.pont@elpont.cat
X-WR-TIMEZONE:Europe/Madrid
DESCRIPTION:Amb l’actuació de “CADENA DE FAVORES”
URI:https://www.elpont.cat/actualitat/agenda/festa-major-2018-vine-a-fer-un-mojito-a-la-fresca.html
CLASS:PUBLIC
END:VEVENT
END:VCALENDAR
