BEGIN:VCALENDAR
VERSION:2.0
CALSCALE:GREGORIAN
PRODID:-//Diputació de Barcelona//DibaCMS//EN
BEGIN:VEVENT
UID:2777
DTSTAMP:20260422T193326
DTSTART:20180722T000000
DTEND:20180722T000000
SUMMARY:FESTA MAJOR 2018 - MOSTRA DE DANSES TRADICIONALS amb l’Esbart Dansaire Vilomarenc i l’Esbart “SOM RIU D’OR”
LOCATION:
METHOD:PUBLISH
X-WR-CALNAME:info.pont@elpont.cat
X-WR-TIMEZONE:Europe/Madrid
DESCRIPTION:I alternant amb el LLIURAMENT DE PREMIS del XXV CONCURS DE DIBUIX
URI:https://www.elpont.cat/actualitat/agenda/festa-major-2018-mostra-de-danses-tradicionals-amb-lesbart-dansaire-vilomarenc-i-lesbart-som-riu-dor.html
CLASS:PUBLIC
END:VEVENT
END:VCALENDAR
