BEGIN:VCALENDAR
VERSION:2.0
CALSCALE:GREGORIAN
PRODID:-//Diputació de Barcelona//DibaCMS//EN
BEGIN:VEVENT
UID:2781
DTSTAMP:20260422T194002
DTSTART:20180723T000000
DTEND:20180723T000000
SUMMARY:FESTA MAJOR 2018 - MISSA SOLEMNE en honor a SANTA MAGDALENA amb el “Cant dels goigs”
LOCATION:
METHOD:PUBLISH
X-WR-CALNAME:info.pont@elpont.cat
X-WR-TIMEZONE:Europe/Madrid
DESCRIPTION:
URI:https://www.elpont.cat/actualitat/agenda/festa-major-2018-missa-solemne-en-honor-a-santa-magdalena-amb-el-cant-dels-goigs.html
CLASS:PUBLIC
END:VEVENT
END:VCALENDAR
