BEGIN:VCALENDAR
VERSION:2.0
CALSCALE:GREGORIAN
PRODID:-//Diputació de Barcelona//DibaCMS//EN
BEGIN:VEVENT
UID:2782
DTSTAMP:20260422T193428
DTSTART:20180723T000000
DTEND:20180723T000000
SUMMARY:FESTA MAJOR 2018 - PIROMUSICAL DE FOCS ARTIFICIALS
LOCATION:
METHOD:PUBLISH
X-WR-CALNAME:info.pont@elpont.cat
X-WR-TIMEZONE:Europe/Madrid
DESCRIPTION:A càrrec de PIROTÈCNIA ESTALELLA
URI:https://www.elpont.cat/actualitat/agenda/festa-major-2018-piromusical-de-focs-artificials.html
CLASS:PUBLIC
END:VEVENT
END:VCALENDAR
