BEGIN:VCALENDAR
VERSION:2.0
CALSCALE:GREGORIAN
PRODID:-//Diputació de Barcelona//DibaCMS//EN
BEGIN:VEVENT
UID:2783
DTSTAMP:20260423T012558
DTSTART:20180723T000000
DTEND:20180723T000000
SUMMARY:FESTA MAJOR 2018 - HAVANERES
LOCATION:
METHOD:PUBLISH
X-WR-CALNAME:info.pont@elpont.cat
X-WR-TIMEZONE:Europe/Madrid
DESCRIPTION:Actuació del grup CAVALL BERNAT-
 
Degustació de rom ofert per l’Associació de Pesca del Pont de Vilomara i Rocafort
URI:https://www.elpont.cat/actualitat/agenda/festa-major-2018-havaneres.html
CLASS:PUBLIC
END:VEVENT
END:VCALENDAR
