BEGIN:VCALENDAR
VERSION:2.0
CALSCALE:GREGORIAN
PRODID:-//Diputació de Barcelona//DibaCMS//EN
BEGIN:VEVENT
UID:2784
DTSTAMP:20260422T231101
DTSTART:20180723T000000
DTEND:20180723T000000
SUMMARY:FESTA MAJOR 2018 - EXPOSICIÓ DE PINTURA DE PINTORS LOCALS
LOCATION:
METHOD:PUBLISH
X-WR-CALNAME:info.pont@elpont.cat
X-WR-TIMEZONE:Europe/Madrid
DESCRIPTION:
URI:https://www.elpont.cat/actualitat/agenda/festa-major-2018-exposicio-de-pintura-de-pintors-locals.html
CLASS:PUBLIC
END:VEVENT
END:VCALENDAR
