BEGIN:VCALENDAR
VERSION:2.0
CALSCALE:GREGORIAN
PRODID:-//Diputació de Barcelona//DibaCMS//EN
BEGIN:VEVENT
UID:2785
DTSTAMP:20260422T215450
DTSTART:20180723T000000
DTEND:20180723T000000
SUMMARY:FESTA MAJOR 2018 - PARC AQUÂTIC
LOCATION:
METHOD:PUBLISH
X-WR-CALNAME:info.pont@elpont.cat
X-WR-TIMEZONE:Europe/Madrid
DESCRIPTION:Entrada gratuïta per als residents del poble i socis
URI:https://www.elpont.cat/actualitat/agenda/festa-major-2018-parc-aquatic.html
CLASS:PUBLIC
END:VEVENT
END:VCALENDAR
