BEGIN:VCALENDAR
VERSION:2.0
CALSCALE:GREGORIAN
PRODID:-//Diputació de Barcelona//DibaCMS//EN
BEGIN:VEVENT
UID:2787
DTSTAMP:20260423T040004
DTSTART:20180810T000000
DTEND:20180810T000000
SUMMARY:FESTA MAJOR DE ROCAFORT - INAUGURACIÓ DE L'EXPOSICIÓ DE PLAYMÒBIL
LOCATION:
METHOD:PUBLISH
X-WR-CALNAME:info.pont@elpont.cat
X-WR-TIMEZONE:Europe/Madrid
DESCRIPTION:Lluc, Andreu i Teresa
URI:https://www.elpont.cat/actualitat/agenda/festa-major-de-rocafort-inauguracio-de-lexposicio-de-playmobil.html
CLASS:PUBLIC
END:VEVENT
END:VCALENDAR
