BEGIN:VCALENDAR
VERSION:2.0
CALSCALE:GREGORIAN
PRODID:-//Diputació de Barcelona//DibaCMS//EN
BEGIN:VEVENT
UID:2789
DTSTAMP:20260423T035933
DTSTART:20180811T000000
DTEND:20180811T000000
SUMMARY:FESTA MAJOR DE ROCAFORT -TALLER DE PA
LOCATION:
METHOD:PUBLISH
X-WR-CALNAME:info.pont@elpont.cat
X-WR-TIMEZONE:Europe/Madrid
DESCRIPTION:Cal portar drap de cotó, davantal i un bol.
A càrrec de Pere Vila.
URI:https://www.elpont.cat/actualitat/agenda/2789-festa-major-de-rocafort-taller-de-pa.html
CLASS:PUBLIC
END:VEVENT
END:VCALENDAR
