BEGIN:VCALENDAR
VERSION:2.0
CALSCALE:GREGORIAN
PRODID:-//Diputació de Barcelona//DibaCMS//EN
BEGIN:VEVENT
UID:2792
DTSTAMP:20260423T024323
DTSTART:20180812T000000
DTEND:20180812T000000
SUMMARY:FESTA MAJOR DE ROCAFORT -XERRADA DE LES VINYES
LOCATION:
METHOD:PUBLISH
X-WR-CALNAME:info.pont@elpont.cat
X-WR-TIMEZONE:Europe/Madrid
DESCRIPTION:A càrrec de Pere Trapé
URI:https://www.elpont.cat/actualitat/agenda/festa-major-de-rocafort-xerrada-de-les-vinyes.html
CLASS:PUBLIC
END:VEVENT
END:VCALENDAR
