BEGIN:VCALENDAR
VERSION:2.0
CALSCALE:GREGORIAN
PRODID:-//Diputació de Barcelona//DibaCMS//EN
BEGIN:VEVENT
UID:2795
DTSTAMP:20260422T231332
DTSTART:20180813T000000
DTEND:20180813T000000
SUMMARY:FESTA MAJOR DE ROCAFORT - TALLER DE CERÀMICA
LOCATION:
METHOD:PUBLISH
X-WR-CALNAME:info.pont@elpont.cat
X-WR-TIMEZONE:Europe/Madrid
DESCRIPTION:A càrrec de l'Esteve i la Maria.
Cal respectar els torns segons edat.
Porteu roba vella i un drap.
URI:https://www.elpont.cat/actualitat/agenda/festa-major-de-rocafort-taller-de-ceramica.html
CLASS:PUBLIC
END:VEVENT
END:VCALENDAR
