BEGIN:VCALENDAR
VERSION:2.0
CALSCALE:GREGORIAN
PRODID:-//Diputació de Barcelona//DibaCMS//EN
BEGIN:VEVENT
UID:2797
DTSTAMP:20260423T001941
DTSTART:20180814T000000
DTEND:20180814T000000
SUMMARY:FESTA MAJOR DE ROCAFORT - BALL DE FESTA MAJOR
LOCATION:
METHOD:PUBLISH
X-WR-CALNAME:info.pont@elpont.cat
X-WR-TIMEZONE:Europe/Madrid
DESCRIPTION:Amb Tarraco Surfers.
Amb parada ambulant del Pizzeru de Mura.
URI:https://www.elpont.cat/actualitat/agenda/2797-festa-major-de-rocafort-ball-de-festa-major.html
CLASS:PUBLIC
END:VEVENT
END:VCALENDAR
