BEGIN:VCALENDAR
VERSION:2.0
CALSCALE:GREGORIAN
PRODID:-//Diputació de Barcelona//DibaCMS//EN
BEGIN:VEVENT
UID:2799
DTSTAMP:20260423T040717
DTSTART:20180815T000000
DTEND:20180815T000000
SUMMARY:FESTA MAJOR DE ROCAFORT - MÀGIA I XOCOLATADA
LOCATION:
METHOD:PUBLISH
X-WR-CALNAME:info.pont@elpont.cat
X-WR-TIMEZONE:Europe/Madrid
DESCRIPTION:Mag Karú
URI:https://www.elpont.cat/actualitat/agenda/festa-major-de-rocafort-magia-i-xocolatada.html
CLASS:PUBLIC
END:VEVENT
END:VCALENDAR
