BEGIN:VCALENDAR
VERSION:2.0
CALSCALE:GREGORIAN
PRODID:-//Diputació de Barcelona//DibaCMS//EN
BEGIN:VEVENT
UID:2800
DTSTAMP:20260423T053225
DTSTART:20180816T000000
DTEND:20180816T000000
SUMMARY:FESTA MAJOR DE ROCAFORT - TALLER DE CUINA
LOCATION:
METHOD:PUBLISH
X-WR-CALNAME:info.pont@elpont.cat
X-WR-TIMEZONE:Europe/Madrid
DESCRIPTION:Tapes i entrants per al bon temps. Porteu drap, ganivet de cuina i davantal.
A càrrec de David Brunet.
URI:https://www.elpont.cat/actualitat/agenda/2800-festa-major-de-rocafort-taller-de-cuina.html
CLASS:PUBLIC
END:VEVENT
END:VCALENDAR
