BEGIN:VCALENDAR
VERSION:2.0
CALSCALE:GREGORIAN
PRODID:-//Diputació de Barcelona//DibaCMS//EN
BEGIN:VEVENT
UID:2807
DTSTAMP:20260423T055648
DTSTART:20180818T000000
DTEND:20180818T000000
SUMMARY:FESTA MAJOR DE ROCAFORT - SOPAR JO PORTO I KARAOKE
LOCATION:
METHOD:PUBLISH
X-WR-CALNAME:info.pont@elpont.cat
X-WR-TIMEZONE:Europe/Madrid
DESCRIPTION:S'ha de portar menjar per compartir i es disposaran taules on tothom podrà picar.
Cal portar paraments i estris.
URI:https://www.elpont.cat/actualitat/agenda/festa-major-de-rocafort-sopar-jo-porto-i-karaoke.html
CLASS:PUBLIC
END:VEVENT
END:VCALENDAR
