BEGIN:VCALENDAR
VERSION:2.0
CALSCALE:GREGORIAN
PRODID:-//Diputació de Barcelona//DibaCMS//EN
BEGIN:VEVENT
UID:2808
DTSTAMP:20260423T035636
DTSTART:20180819T000000
DTEND:20180819T000000
SUMMARY:FESTA MAJOR DE ROCAFORT - MAL DE CLOSCA
LOCATION:
METHOD:PUBLISH
X-WR-CALNAME:info.pont@elpont.cat
X-WR-TIMEZONE:Europe/Madrid
DESCRIPTION:Farrés Brothers i Cia
URI:https://www.elpont.cat/actualitat/agenda/festa-major-de-rocafort-mal-de-closca.html
CLASS:PUBLIC
END:VEVENT
END:VCALENDAR
