BEGIN:VCALENDAR
VERSION:2.0
CALSCALE:GREGORIAN
PRODID:-//Diputació de Barcelona//DibaCMS//EN
BEGIN:VEVENT
UID:2809
DTSTAMP:20260423T015850
DTSTART:20180819T000000
DTEND:20180819T000000
SUMMARY:FESTA MAJOR DE ROCAFORT - CONCERT
LOCATION:
METHOD:PUBLISH
X-WR-CALNAME:info.pont@elpont.cat
X-WR-TIMEZONE:Europe/Madrid
DESCRIPTION:Guillermo Rizzoto Trio
"Paz"
Vicente JUan, Salvador Toscano i Guillermo Rizzoto)
URI:https://www.elpont.cat/actualitat/agenda/2809-festa-major-de-rocafort-concert.html
CLASS:PUBLIC
END:VEVENT
END:VCALENDAR
