BEGIN:VCALENDAR
VERSION:2.0
CALSCALE:GREGORIAN
PRODID:-//Diputació de Barcelona//DibaCMS//EN
BEGIN:VEVENT
UID:2812
DTSTAMP:20260423T040549
DTSTART:20180824T000000
DTEND:20180824T000000
SUMMARY:FESTA MAJOR DE ROCAFORT - JOCS DE NIT
LOCATION:
METHOD:PUBLISH
X-WR-CALNAME:info.pont@elpont.cat
X-WR-TIMEZONE:Europe/Madrid
DESCRIPTION:Mínim 6 anys per participar.
URI:https://www.elpont.cat/actualitat/agenda/festa-major-de-rocafort-jocs-de-nit.html
CLASS:PUBLIC
END:VEVENT
END:VCALENDAR
