BEGIN:VCALENDAR
VERSION:2.0
CALSCALE:GREGORIAN
PRODID:-//Diputació de Barcelona//DibaCMS//EN
BEGIN:VEVENT
UID:2813
DTSTAMP:20260423T002041
DTSTART:20180824T000000
DTEND:20180824T000000
SUMMARY:FESTA MAJOR DE ROCAFORT - EXCAVACIONS ARQUEOLÒGIQUES AL CASTELL
LOCATION:
METHOD:PUBLISH
X-WR-CALNAME:info.pont@elpont.cat
X-WR-TIMEZONE:Europe/Madrid
DESCRIPTION:Rocafort Patrimoni i Documentació.
Per a majors de 15 anys.
URI:https://www.elpont.cat/actualitat/agenda/2813-festa-major-de-rocafort-excavacions-arqueologiques-al-castell.html
CLASS:PUBLIC
END:VEVENT
END:VCALENDAR
