BEGIN:VCALENDAR
VERSION:2.0
CALSCALE:GREGORIAN
PRODID:-//Diputació de Barcelona//DibaCMS//EN
BEGIN:VEVENT
UID:2814
DTSTAMP:20260423T055627
DTSTART:20180825T000000
DTEND:20180825T000000
SUMMARY:FESTA MAJOR DE ROCAFORT - CIGRONADA I XOU
LOCATION:
METHOD:PUBLISH
X-WR-CALNAME:info.pont@elpont.cat
X-WR-TIMEZONE:Europe/Madrid
DESCRIPTION:Cal portar estris i paraments.
Cada participants pordrà actuar un màxim de dos espectacles.
Aquest any es premiarà l'espectacle més brillant.
URI:https://www.elpont.cat/actualitat/agenda/2814-festa-major-de-rocafort-cigronada-i-xou.html
CLASS:PUBLIC
END:VEVENT
END:VCALENDAR
