BEGIN:VCALENDAR
VERSION:2.0
CALSCALE:GREGORIAN
PRODID:-//Diputació de Barcelona//DibaCMS//EN
BEGIN:VEVENT
UID:2816
DTSTAMP:20260423T001829
DTSTART:20180901T000000
DTEND:20180901T000000
SUMMARY:FESTA MAJOR DEL MARQUET PARADÍS 2018 - GRAN BALL DE FESTA MAJOR AMB DISCO MÒBIL I ANIMACIÓ
LOCATION:
METHOD:PUBLISH
X-WR-CALNAME:info.pont@elpont.cat
X-WR-TIMEZONE:Europe/Madrid
DESCRIPTION:
URI:https://www.elpont.cat/actualitat/agenda/festa-major-del-marquet-paradis-2018-gran-ball-de-festa-major-amb-disco-mobil-i-animacio.html
CLASS:PUBLIC
END:VEVENT
END:VCALENDAR
