BEGIN:VCALENDAR
VERSION:2.0
CALSCALE:GREGORIAN
PRODID:-//Diputació de Barcelona//DibaCMS//EN
BEGIN:VEVENT
UID:2817
DTSTAMP:20260422T220037
DTSTART:20180901T000000
DTEND:20180901T000000
SUMMARY:FESTA MAJOR DEL MARQUET PARADÍS 2018 - GRAN FESTA HOLI AMB SORTEIGS I SORPRESES
LOCATION:
METHOD:PUBLISH
X-WR-CALNAME:info.pont@elpont.cat
X-WR-TIMEZONE:Europe/Madrid
DESCRIPTION:Vin a colorejar-te i a ballar.
 
Seguidament hi haurà la Gran Festa de l'Escuma.
URI:https://www.elpont.cat/actualitat/agenda/festa-major-del-marquet-paradis-2018-gran-festa-holi-amb-sorteigs-i-sorpreses.html
CLASS:PUBLIC
END:VEVENT
END:VCALENDAR
