BEGIN:VCALENDAR
VERSION:2.0
CALSCALE:GREGORIAN
PRODID:-//Diputació de Barcelona//DibaCMS//EN
BEGIN:VEVENT
UID:2819
DTSTAMP:20260422T231300
DTSTART:20180901T000000
DTEND:20180901T000000
SUMMARY:FESTA MAJOR DEL MARQUET PARADÍS 2018 - TALLER DE MANUALITATS INFANTILS
LOCATION:
METHOD:PUBLISH
X-WR-CALNAME:info.pont@elpont.cat
X-WR-TIMEZONE:Europe/Madrid
DESCRIPTION:
URI:https://www.elpont.cat/actualitat/agenda/festa-major-del-marquet-paradis-2018-taller-de-manualitats-infantils.html
CLASS:PUBLIC
END:VEVENT
END:VCALENDAR
