BEGIN:VCALENDAR
VERSION:2.0
CALSCALE:GREGORIAN
PRODID:-//Diputació de Barcelona//DibaCMS//EN
BEGIN:VEVENT
UID:2820
DTSTAMP:20260422T220903
DTSTART:20180902T000000
DTEND:20180902T000000
SUMMARY:FESTA MAJOR DEL MARQUET PARADÍS 2018 - FI DE FESTA AMB GRAN XOCOLATADA PER A TOTHOM
LOCATION:
METHOD:PUBLISH
X-WR-CALNAME:info.pont@elpont.cat
X-WR-TIMEZONE:Europe/Madrid
DESCRIPTION:
URI:https://www.elpont.cat/actualitat/agenda/festa-major-del-marquet-paradis-2018-fi-de-festa-amb-gran-xocolatada-per-a-tothom.html
CLASS:PUBLIC
END:VEVENT
END:VCALENDAR
