BEGIN:VCALENDAR
VERSION:2.0
CALSCALE:GREGORIAN
PRODID:-//Diputació de Barcelona//DibaCMS//EN
BEGIN:VEVENT
UID:2822
DTSTAMP:20260423T001851
DTSTART:20180902T000000
DTEND:20180902T000000
SUMMARY:FESTA MAJOR DEL MARQUET PARADÍS 2018 - MISSA DE FESTA MAJOR
LOCATION:
METHOD:PUBLISH
X-WR-CALNAME:info.pont@elpont.cat
X-WR-TIMEZONE:Europe/Madrid
DESCRIPTION:Seguidament hi haurà un petit refrigeri a la mateixa explanada. Tothom que ho vulgui podrà endur-se el seu menjar i dinar tots junts.
URI:https://www.elpont.cat/actualitat/agenda/festa-major-del-marquet-paradis-2018-missa-de-festa-major.html
CLASS:PUBLIC
END:VEVENT
END:VCALENDAR
