BEGIN:VCALENDAR
VERSION:2.0
CALSCALE:GREGORIAN
PRODID:-//Diputació de Barcelona//DibaCMS//EN
BEGIN:VEVENT
UID:2824
DTSTAMP:20260422T220837
DTSTART:20180910T000000
DTEND:20181001T000000
SUMMARY:XXXVII HOMENATGE A LA GENT GRAN 2018 - EXPOSICIÓ DE PINTURES D'HERIBERT SORIANO I CADIRES EN MINIATURA DE JOAN PAREDES
LOCATION:
METHOD:PUBLISH
X-WR-CALNAME:info.pont@elpont.cat
X-WR-TIMEZONE:Europe/Madrid
DESCRIPTION:
URI:https://www.elpont.cat/actualitat/agenda/xxxvii-homenatge-a-la-gent-gran-2018-exposicio-de-pintures-dheribert-soriano-i-cadires-en-miniatura-de-joan-paredes.html
CLASS:PUBLIC
END:VEVENT
END:VCALENDAR
