BEGIN:VCALENDAR
VERSION:2.0
CALSCALE:GREGORIAN
PRODID:-//Diputació de Barcelona//DibaCMS//EN
BEGIN:VEVENT
UID:2825
DTSTAMP:20260423T014654
DTSTART:20180914T000000
DTEND:20180914T000000
SUMMARY:XIV CAP DE SETMANA DE LA JOVENTUT - MALGYMCANA NOCTURNA AMB &quot;ZONA WIPEOUT I HUMOR AMARILLO&quot;
LOCATION:
METHOD:PUBLISH
X-WR-CALNAME:info.pont@elpont.cat
X-WR-TIMEZONE:Europe/Madrid
DESCRIPTION: 
 
URI:https://www.elpont.cat/actualitat/agenda/xiv-cap-de-setmana-de-la-joventut-malgymcana-nocturna-amb-andquotzona-wipeout-i-humor-amarilloandquot.html
CLASS:PUBLIC
END:VEVENT
END:VCALENDAR
