BEGIN:VCALENDAR
VERSION:2.0
CALSCALE:GREGORIAN
PRODID:-//Diputació de Barcelona//DibaCMS//EN
BEGIN:VEVENT
UID:2828
DTSTAMP:20260423T002939
DTSTART:20180916T000000
DTEND:20180916T000000
SUMMARY:XIV CAP DE SETMANA DE LA JOVENTUT - CONCERT A LA FRESCA AMB &quot;EL QUINTO CARAJILLO&quot;
LOCATION:
METHOD:PUBLISH
X-WR-CALNAME:info.pont@elpont.cat
X-WR-TIMEZONE:Europe/Madrid
DESCRIPTION:
URI:https://www.elpont.cat/actualitat/agenda/xiv-cap-de-setmana-de-la-joventut-concert-a-la-fresca-amb-andquotel-quinto-carajilloandquot.html
CLASS:PUBLIC
END:VEVENT
END:VCALENDAR
